Package: notameStats Version: 0.99.2 Command: /Library/Frameworks/R.framework/Resources/bin/R CMD build --keep-empty-dirs --no-resave-data notameStats StartedAt: 2025-10-23 17:16:22 -0400 (Thu, 23 Oct 2025) EndedAt: 2025-10-23 17:16:45 -0400 (Thu, 23 Oct 2025) EllapsedTime: 22.3 seconds RetCode: 0 Status: OK PackageFile: notameStats_0.99.2.tar.gz PackageFileSize: 255.3 KiB