Package: notameStats Version: 0.99.2 Command: rm -rf notameStats.buildbin-libdir && mkdir notameStats.buildbin-libdir && /Users/biocbuild/BBS/utils/build-universal.sh notameStats_0.99.2.tar.gz /Library/Frameworks/R.framework/Resources/bin/R notameStats.buildbin-libdir StartedAt: 2025-10-23 23:19:41 -0400 (Thu, 23 Oct 2025) EndedAt: 2025-10-23 23:19:53 -0400 (Thu, 23 Oct 2025) EllapsedTime: 11.3 seconds RetCode: 0 Status: OK PackageFile: notameStats_0.99.2.tgz PackageFileSize: 379.2 KiB