Package: notame Version: 1.1.0 Command: /home/biocbuild/bbs-3.23-bioc/R/bin/R CMD build --keep-empty-dirs --no-resave-data notame StartedAt: 2025-11-06 18:56:27 -0500 (Thu, 06 Nov 2025) EndedAt: 2025-11-06 18:59:33 -0500 (Thu, 06 Nov 2025) EllapsedTime: 186.2 seconds RetCode: 0 Status: OK PackageFile: notame_1.1.0.tar.gz PackageFileSize: 867.1 KiB