Package: notame Version: 1.1.0 Maintainer: Vilhelm Suksi MaintainerEmail: vksuks at utu.fi git_url: https://git.bioconductor.org/packages/notame git_branch: devel git_last_commit: 778b063 git_last_commit_date: 2025-10-29 11:38:23 -0500 (Wed, 29 Oct 2025)