Package: normr Version: 1.37.0 Command: /home/biocbuild/bbs-3.23-bioc/R/bin/R CMD build --keep-empty-dirs --no-resave-data normr StartedAt: 2025-11-20 19:01:55 -0500 (Thu, 20 Nov 2025) EndedAt: 2025-11-20 19:03:13 -0500 (Thu, 20 Nov 2025) EllapsedTime: 78.1 seconds RetCode: 0 Status: OK PackageFile: normr_1.37.0.tar.gz PackageFileSize: 3.667 MiB