Package: normr Version: 1.35.0 Command: rm -rf normr.buildbin-libdir && mkdir normr.buildbin-libdir && /Users/biocbuild/BBS/utils/build-universal.sh normr_1.35.0.tar.gz /Library/Frameworks/R.framework/Resources/bin/R normr.buildbin-libdir StartedAt: 2025-10-16 03:06:45 -0400 (Thu, 16 Oct 2025) EndedAt: 2025-10-16 03:07:52 -0400 (Thu, 16 Oct 2025) EllapsedTime: 67.4 seconds RetCode: 0 Status: OK PackageFile: normr_1.35.0.tgz PackageFileSize: 4.18 MiB