Package: normr Version: 1.35.0 Command: /Library/Frameworks/R.framework/Resources/bin/R CMD INSTALL normr StartedAt: 2025-09-29 15:16:14 -0400 (Mon, 29 Sep 2025) EndedAt: 2025-09-29 15:16:32 -0400 (Mon, 29 Sep 2025) EllapsedTime: 17.8 seconds RetCode: 0 Status: OK