Package: normr Version: 1.37.0 Maintainer: Johannes Helmuth MaintainerEmail: johannes.helmuth at laborberlin.com git_url: https://git.bioconductor.org/packages/normr git_branch: devel git_last_commit: 76e2183 git_last_commit_date: 2025-10-29 10:32:51 -0400 (Wed, 29 Oct 2025)