Package: normalize450K Version: 1.39.0 Command: /home/biocbuild/bbs-3.23-bioc/R/bin/R CMD INSTALL normalize450K StartedAt: 2025-11-03 15:53:34 -0500 (Mon, 03 Nov 2025) EndedAt: 2025-11-03 15:53:51 -0500 (Mon, 03 Nov 2025) EllapsedTime: 16.5 seconds RetCode: 0 Status: OK