Package: normalize450K Version: 1.39.0 Command: /home/biocbuild/bbs-3.23-bioc/R/bin/R CMD check --install=check:normalize450K.install-out.txt --library=/home/biocbuild/bbs-3.23-bioc/R/site-library --timings normalize450K_1.39.0.tar.gz StartedAt: 2025-11-17 02:10:21 -0500 (Mon, 17 Nov 2025) EndedAt: 2025-11-17 02:10:54 -0500 (Mon, 17 Nov 2025) EllapsedTime: 33.0 seconds RetCode: 0 Status: OK CheckDir: normalize450K.Rcheck Warnings: 0