Package: normalize450K Version: 1.39.0 Command: /home/biocbuild/bbs-3.23-bioc/R/bin/R CMD build --keep-empty-dirs --no-resave-data normalize450K StartedAt: 2025-11-03 18:53:35 -0500 (Mon, 03 Nov 2025) EndedAt: 2025-11-03 18:53:54 -0500 (Mon, 03 Nov 2025) EllapsedTime: 19.0 seconds RetCode: 0 Status: OK PackageFile: normalize450K_1.39.0.tar.gz PackageFileSize: 3.138 MiB