Package: nondetects Version: 2.41.0 Command: /home/biocbuild/bbs-3.23-bioc/R/bin/R CMD INSTALL nondetects StartedAt: 2025-10-31 16:14:47 -0400 (Fri, 31 Oct 2025) EndedAt: 2025-10-31 16:14:55 -0400 (Fri, 31 Oct 2025) EllapsedTime: 8.1 seconds RetCode: 0 Status: OK