Package: nondetects Version: 2.41.0 Command: /home/biocbuild/bbs-3.23-bioc/R/bin/R CMD build --keep-empty-dirs --no-resave-data nondetects StartedAt: 2025-10-31 19:10:01 -0400 (Fri, 31 Oct 2025) EndedAt: 2025-10-31 19:12:28 -0400 (Fri, 31 Oct 2025) EllapsedTime: 146.2 seconds RetCode: 0 Status: OK PackageFile: nondetects_2.41.0.tar.gz PackageFileSize: 130.3 KiB