Package: nondetects Version: 2.39.1 Command: /Library/Frameworks/R.framework/Resources/bin/R CMD INSTALL nondetects StartedAt: 2025-10-14 15:32:26 -0400 (Tue, 14 Oct 2025) EndedAt: 2025-10-14 15:32:30 -0400 (Tue, 14 Oct 2025) EllapsedTime: 4.1 seconds RetCode: 0 Status: OK