Package: nondetects Version: 2.39.1 Command: /Library/Frameworks/R.framework/Resources/bin/R CMD build --keep-empty-dirs --no-resave-data nondetects StartedAt: 2025-10-14 17:13:22 -0400 (Tue, 14 Oct 2025) EndedAt: 2025-10-14 17:14:06 -0400 (Tue, 14 Oct 2025) EllapsedTime: 44.5 seconds RetCode: 0 Status: OK PackageFile: nondetects_2.39.1.tar.gz PackageFileSize: 137.1 KiB