Package: nondetects Version: 2.39.1 Command: rm -rf nondetects.buildbin-libdir && mkdir nondetects.buildbin-libdir && /Users/biocbuild/BBS/utils/build-universal.sh nondetects_2.39.1.tar.gz /Library/Frameworks/R.framework/Resources/bin/R nondetects.buildbin-libdir StartedAt: 2025-10-14 23:31:26 -0400 (Tue, 14 Oct 2025) EndedAt: 2025-10-14 23:31:31 -0400 (Tue, 14 Oct 2025) EllapsedTime: 4.1 seconds RetCode: 0 Status: OK PackageFile: nondetects_2.39.1.tgz PackageFileSize: 169.9 KiB