Package: nnSVG Version: 1.13.1 Command: /Library/Frameworks/R.framework/Resources/bin/R CMD INSTALL nnSVG StartedAt: 2025-10-13 15:25:24 -0400 (Mon, 13 Oct 2025) EndedAt: 2025-10-13 15:25:55 -0400 (Mon, 13 Oct 2025) EllapsedTime: 31.1 seconds RetCode: 0 Status: OK