Package: nnSVG Version: 1.13.1 Command: /Library/Frameworks/R.framework/Resources/bin/R CMD build --keep-empty-dirs --no-resave-data nnSVG StartedAt: 2025-10-13 18:27:52 -0400 (Mon, 13 Oct 2025) EndedAt: 2025-10-13 18:34:44 -0400 (Mon, 13 Oct 2025) EllapsedTime: 412.0 seconds RetCode: 0 Status: OK PackageFile: nnSVG_1.13.1.tar.gz PackageFileSize: 1.546 MiB