Package: nnNorm Version: 2.75.0 Command: /home/biocbuild/bbs-3.23-bioc/R/bin/R CMD INSTALL nnNorm StartedAt: 2025-11-20 15:03:19 -0500 (Thu, 20 Nov 2025) EndedAt: 2025-11-20 15:03:33 -0500 (Thu, 20 Nov 2025) EllapsedTime: 14.4 seconds RetCode: 0 Status: OK