Package: nnNorm Version: 2.75.0 Command: /home/biocbuild/bbs-3.23-bioc/R/bin/R CMD build --keep-empty-dirs --no-resave-data nnNorm StartedAt: 2025-11-20 19:00:51 -0500 (Thu, 20 Nov 2025) EndedAt: 2025-11-20 19:01:22 -0500 (Thu, 20 Nov 2025) EllapsedTime: 31.0 seconds RetCode: 0 Status: OK PackageFile: nnNorm_2.75.0.tar.gz PackageFileSize: 1.59 MiB