Package: nnNorm Version: 2.73.0 Command: /Library/Frameworks/R.framework/Resources/bin/R CMD INSTALL nnNorm StartedAt: 2025-10-21 15:08:17 -0400 (Tue, 21 Oct 2025) EndedAt: 2025-10-21 15:08:48 -0400 (Tue, 21 Oct 2025) EllapsedTime: 31.1 seconds RetCode: 0 Status: OK