Package: nnNorm Version: 2.73.0 Command: /Library/Frameworks/R.framework/Resources/bin/R CMD build --keep-empty-dirs --no-resave-data nnNorm StartedAt: 2025-10-21 18:36:48 -0400 (Tue, 21 Oct 2025) EndedAt: 2025-10-21 18:37:39 -0400 (Tue, 21 Oct 2025) EllapsedTime: 50.5 seconds RetCode: 0 Status: OK PackageFile: nnNorm_2.73.0.tar.gz PackageFileSize: 1.59 MiB