Package: nnNorm Version: 2.73.0 Command: rm -rf nnNorm.buildbin-libdir && mkdir nnNorm.buildbin-libdir && /Users/biocbuild/BBS/utils/build-universal.sh nnNorm_2.73.0.tar.gz /Library/Frameworks/R.framework/Resources/bin/R nnNorm.buildbin-libdir StartedAt: 2025-10-22 02:37:53 -0400 (Wed, 22 Oct 2025) EndedAt: 2025-10-22 02:38:00 -0400 (Wed, 22 Oct 2025) EllapsedTime: 6.9 seconds RetCode: 0 Status: OK PackageFile: nnNorm_2.73.0.tgz PackageFileSize: 195.9 KiB