Package: nnNorm Version: 2.73.0 Command: /Library/Frameworks/R.framework/Resources/bin/R CMD INSTALL nnNorm StartedAt: 2025-10-01 15:03:19 -0400 (Wed, 01 Oct 2025) EndedAt: 2025-10-01 15:03:24 -0400 (Wed, 01 Oct 2025) EllapsedTime: 5.3 seconds RetCode: 0 Status: OK