Package: nipalsMCIA Version: 1.7.0 Command: F:\biocbuild\bbs-3.22-bioc\R\bin\R.exe CMD check --no-multiarch --install=check:nipalsMCIA.install-out.txt --library=F:\biocbuild\bbs-3.22-bioc\R\library --no-vignettes --timings nipalsMCIA_1.7.0.tar.gz StartedAt: 2025-08-15 05:53:21 -0400 (Fri, 15 Aug 2025) EndedAt: 2025-08-15 05:59:18 -0400 (Fri, 15 Aug 2025) EllapsedTime: 357.3 seconds RetCode: 0 Status: OK CheckDir: nipalsMCIA.Rcheck Warnings: 0