Package: nipalsMCIA Version: 1.9.0 Command: /home/biocbuild/bbs-3.23-bioc/R/bin/R CMD INSTALL nipalsMCIA StartedAt: 2025-11-20 15:20:05 -0500 (Thu, 20 Nov 2025) EndedAt: 2025-11-20 15:20:32 -0500 (Thu, 20 Nov 2025) EllapsedTime: 27.0 seconds RetCode: 0 Status: OK