Package: nipalsMCIA Version: 1.9.0 Command: /home/biocbuild/bbs-3.23-bioc/R/bin/R CMD check --install=check:nipalsMCIA.install-out.txt --library=/home/biocbuild/bbs-3.23-bioc/R/site-library --timings nipalsMCIA_1.9.0.tar.gz StartedAt: 2025-11-21 02:04:15 -0500 (Fri, 21 Nov 2025) EndedAt: 2025-11-21 02:11:57 -0500 (Fri, 21 Nov 2025) EllapsedTime: 461.6 seconds RetCode: 0 Status: OK CheckDir: nipalsMCIA.Rcheck Warnings: 0