Package: ngsReports Version: 2.11.1 Command: /Library/Frameworks/R.framework/Resources/bin/R CMD INSTALL ngsReports StartedAt: 2025-10-10 15:12:33 -0400 (Fri, 10 Oct 2025) EndedAt: 2025-10-10 15:12:40 -0400 (Fri, 10 Oct 2025) EllapsedTime: 7.7 seconds RetCode: 0 Status: OK