Package: ngsReports Version: 2.11.1 Command: /Library/Frameworks/R.framework/Resources/bin/R CMD build --keep-empty-dirs --no-resave-data ngsReports StartedAt: 2025-10-10 17:12:31 -0400 (Fri, 10 Oct 2025) EndedAt: 2025-10-10 17:12:54 -0400 (Fri, 10 Oct 2025) EllapsedTime: 23.3 seconds RetCode: 0 Status: OK PackageFile: ngsReports_2.11.1.tar.gz PackageFileSize: 3.185 MiB