Package: netresponse Version: 1.69.0 Command: /home/biocbuild/R/R/bin/R CMD INSTALL netresponse StartedAt: 2025-09-29 20:46:47 -0000 (Mon, 29 Sep 2025) EndedAt: 2025-09-29 20:47:03 -0000 (Mon, 29 Sep 2025) EllapsedTime: 15.2 seconds RetCode: 0 Status: OK