Package: netresponse Version: 1.71.0 Command: /home/biocbuild/bbs-3.23-bioc/R/bin/R CMD INSTALL netresponse StartedAt: 2025-11-07 15:15:14 -0500 (Fri, 07 Nov 2025) EndedAt: 2025-11-07 15:15:25 -0500 (Fri, 07 Nov 2025) EllapsedTime: 10.8 seconds RetCode: 0 Status: OK