Package: netresponse Version: 1.71.0 Command: /home/biocbuild/bbs-3.23-bioc/R/bin/R CMD check --install=check:netresponse.install-out.txt --library=/home/biocbuild/bbs-3.23-bioc/R/site-library --timings netresponse_1.71.0.tar.gz StartedAt: 2025-11-08 02:01:26 -0500 (Sat, 08 Nov 2025) EndedAt: 2025-11-08 02:02:45 -0500 (Sat, 08 Nov 2025) EllapsedTime: 79.1 seconds RetCode: 0 Status: OK CheckDir: netresponse.Rcheck Warnings: 0