Package: netprioR Version: 1.35.0 Command: /home/biocbuild/R/R/bin/R CMD INSTALL netprioR StartedAt: 2025-10-09 20:59:48 -0000 (Thu, 09 Oct 2025) EndedAt: 2025-10-09 21:00:01 -0000 (Thu, 09 Oct 2025) EllapsedTime: 13.6 seconds RetCode: 0 Status: OK