Package: netprioR Version: 1.35.0 Command: /home/biocbuild/R/R/bin/R CMD build --keep-empty-dirs --no-resave-data netprioR StartedAt: 2025-10-10 02:37:33 -0000 (Fri, 10 Oct 2025) EndedAt: 2025-10-10 02:38:23 -0000 (Fri, 10 Oct 2025) EllapsedTime: 50.1 seconds RetCode: 0 Status: OK PackageFile: netprioR_1.35.0.tar.gz PackageFileSize: 474.2 KiB