Package: netprioR Version: 1.35.0 Command: /home/biocbuild/bbs-3.22-bioc/R/bin/R CMD check --install=check:netprioR.install-out.txt --library=/home/biocbuild/bbs-3.22-bioc/R/site-library --timings netprioR_1.35.0.tar.gz StartedAt: 2025-10-09 02:48:18 -0400 (Thu, 09 Oct 2025) EndedAt: 2025-10-09 02:50:04 -0400 (Thu, 09 Oct 2025) EllapsedTime: 106.1 seconds RetCode: 0 Status: OK CheckDir: netprioR.Rcheck Warnings: 0