Package: netprioR Version: 1.37.0 Command: /home/biocbuild/bbs-3.23-bioc/R/bin/R CMD INSTALL netprioR StartedAt: 2025-11-20 15:08:09 -0500 (Thu, 20 Nov 2025) EndedAt: 2025-11-20 15:08:19 -0500 (Thu, 20 Nov 2025) EllapsedTime: 10.2 seconds RetCode: 0 Status: OK