Package: netprioR Version: 1.37.0 Command: /home/biocbuild/bbs-3.23-bioc/R/bin/R CMD check --install=check:netprioR.install-out.txt --library=/home/biocbuild/bbs-3.23-bioc/R/site-library --timings netprioR_1.37.0.tar.gz StartedAt: 2025-11-21 02:02:49 -0500 (Fri, 21 Nov 2025) EndedAt: 2025-11-21 02:04:40 -0500 (Fri, 21 Nov 2025) EllapsedTime: 111.2 seconds RetCode: 0 Status: OK CheckDir: netprioR.Rcheck Warnings: 0