Package: nethet Version: 1.41.0 Command: /home/biocbuild/R/R/bin/R CMD INSTALL nethet StartedAt: 2025-10-09 21:07:05 -0000 (Thu, 09 Oct 2025) EndedAt: 2025-10-09 21:07:24 -0000 (Thu, 09 Oct 2025) EllapsedTime: 19.6 seconds RetCode: 0 Status: OK