Package: nethet Version: 1.41.0 Command: /home/biocbuild/R/R/bin/R CMD build --keep-empty-dirs --no-resave-data nethet StartedAt: 2025-10-10 02:36:51 -0000 (Fri, 10 Oct 2025) EndedAt: 2025-10-10 02:40:44 -0000 (Fri, 10 Oct 2025) EllapsedTime: 232.3 seconds RetCode: 0 Status: OK PackageFile: nethet_1.41.0.tar.gz PackageFileSize: 689.7 KiB