Package: nethet Version: 1.41.0 Command: rm -rf nethet.buildbin-libdir && mkdir nethet.buildbin-libdir && F:\biocbuild\bbs-3.22-bioc\R\bin\R.exe CMD INSTALL --build --library=nethet.buildbin-libdir nethet_1.41.0.tar.gz StartedAt: 2025-08-15 10:50:35 -0400 (Fri, 15 Aug 2025) EndedAt: 2025-08-15 10:51:37 -0400 (Fri, 15 Aug 2025) EllapsedTime: 62.0 seconds RetCode: 0 Status: OK PackageFile: nethet_1.41.0.zip PackageFileSize: 1.025 MiB