Package: nethet Version: 1.43.0 Command: /home/biocbuild/bbs-3.23-bioc/R/bin/R CMD INSTALL nethet StartedAt: 2025-11-20 15:14:17 -0500 (Thu, 20 Nov 2025) EndedAt: 2025-11-20 15:14:32 -0500 (Thu, 20 Nov 2025) EllapsedTime: 15.1 seconds RetCode: 0 Status: OK