Package: netboost Version: 2.19.0 Command: /home/biocbuild/bbs-3.23-bioc/R/bin/R CMD INSTALL netboost StartedAt: 2025-11-03 15:47:59 -0500 (Mon, 03 Nov 2025) EndedAt: 2025-11-03 15:48:46 -0500 (Mon, 03 Nov 2025) EllapsedTime: 47.1 seconds RetCode: 0 Status: OK