Package: netboost Version: 2.19.0 Command: /home/biocbuild/bbs-3.23-bioc/R/bin/R CMD check --install=check:netboost.install-out.txt --library=/home/biocbuild/bbs-3.23-bioc/R/site-library --timings netboost_2.19.0.tar.gz StartedAt: 2025-11-05 01:49:09 -0500 (Wed, 05 Nov 2025) EndedAt: 2025-11-05 01:52:20 -0500 (Wed, 05 Nov 2025) EllapsedTime: 190.3 seconds RetCode: 0 Status: WARNINGS CheckDir: netboost.Rcheck Warnings: 1