Package: netboost Version: 2.19.0 Command: /home/biocbuild/bbs-3.23-bioc/R/bin/R CMD build --keep-empty-dirs --no-resave-data netboost StartedAt: 2025-11-03 18:51:37 -0500 (Mon, 03 Nov 2025) EndedAt: 2025-11-03 18:52:35 -0500 (Mon, 03 Nov 2025) EllapsedTime: 58.0 seconds RetCode: 0 Status: OK PackageFile: netboost_2.19.0.tar.gz PackageFileSize: 1.138 MiB