Package: netboost Version: 2.17.0 Command: /Library/Frameworks/R.framework/Resources/bin/R CMD check --install=check:netboost.install-out.txt --library=/Library/Frameworks/R.framework/Resources/library --no-vignettes --timings netboost_2.17.0.tar.gz StartedAt: 2025-10-13 23:53:11 -0400 (Mon, 13 Oct 2025) EndedAt: 2025-10-13 23:56:49 -0400 (Mon, 13 Oct 2025) EllapsedTime: 217.5 seconds RetCode: 0 Status: WARNINGS CheckDir: netboost.Rcheck Warnings: 1