############################################################################## ############################################################################## ### ### Running command: ### ### /home/biocbuild/bbs-3.23-bioc/R/bin/R CMD build --keep-empty-dirs --no-resave-data netZooR ### ############################################################################## ############################################################################## * checking for file ‘netZooR/DESCRIPTION’ ... OK * preparing ‘netZooR’: * checking DESCRIPTION meta-information ... OK * installing the package (it is needed to build vignettes) ----------------------------------- ERROR: dependencies ‘cmdstanr’, ‘GO.db’, ‘GOstats’, ‘org.Hs.eg.db’ are not available for package ‘netZooR’ Perhaps try a variation of: install.packages(c('cmdstanr', 'GO.db', 'GOstats', 'org.Hs.eg.db')) * removing ‘/tmp/RtmpNNTB8Z/Rinst1560144badd16f/netZooR’ ----------------------------------- ERROR: package installation failed