Package: netSmooth Version: 1.29.0 Command: F:\biocbuild\bbs-3.22-bioc\R\bin\R.exe CMD INSTALL netSmooth StartedAt: 2025-08-14 17:01:49 -0400 (Thu, 14 Aug 2025) EndedAt: 2025-08-14 17:01:50 -0400 (Thu, 14 Aug 2025) EllapsedTime: 0.8 seconds RetCode: 1 Status: ERROR