Package: netSmooth Version: 1.29.0 Command: chmod a+r netSmooth -R && F:\biocbuild\bbs-3.22-bioc\R\bin\R.exe CMD build --keep-empty-dirs --no-resave-data netSmooth StartedAt: 2025-08-14 21:55:34 -0400 (Thu, 14 Aug 2025) EndedAt: 2025-08-14 21:55:40 -0400 (Thu, 14 Aug 2025) EllapsedTime: 6.3 seconds RetCode: 1 Status: ERROR PackageFile: None PackageFileSize: NA