Package: netSmooth Version: 1.31.0 Command: /home/biocbuild/bbs-3.23-bioc/R/bin/R CMD INSTALL netSmooth StartedAt: 2025-11-05 16:02:52 -0500 (Wed, 05 Nov 2025) EndedAt: 2025-11-05 16:03:38 -0500 (Wed, 05 Nov 2025) EllapsedTime: 45.5 seconds RetCode: 0 Status: OK