Package: nempi Version: 1.19.0 Command: /home/biocbuild/bbs-3.23-bioc/R/bin/R CMD INSTALL nempi StartedAt: 2025-11-20 15:24:46 -0500 (Thu, 20 Nov 2025) EndedAt: 2025-11-20 15:25:03 -0500 (Thu, 20 Nov 2025) EllapsedTime: 16.7 seconds RetCode: 0 Status: OK